BEGIN:VCALENDAR
VERSION:2.0
PRODID:-//Tukios.com/
BEGIN:VEVENT
UID:edc8b539-ebb4-44e3-9103-e1d29a24cea5@www.blackwell-johnsonmemorial.com
DTSTAMP:20260421T180537Z
DTSTART:20260425T160000Z
DTEND:20260425T170000Z
SUMMARY:Funeral Service
DESCRIPTION:
URL:https://www.blackwell-johnsonmemorial.com/obituaries/raymond-fomby
LOCATION:Abundant Life 323 S 12th St  Gadsden AL 35901
GEO:34.0165934;-86.0205082
END:VEVENT
END:VCALENDAR