BEGIN:VCALENDAR
VERSION:2.0
PRODID:-//Tukios.com/
BEGIN:VEVENT
UID:bfda36e2-26ea-4a6e-bad6-e67d7fa87930@www.blackwell-johnsonmemorial.com
DTSTAMP:20260421T175851Z
DTSTART:20260425T150000Z
DTEND:20260425T160000Z
SUMMARY:Visitation
DESCRIPTION:
URL:https://www.blackwell-johnsonmemorial.com/obituaries/raymond-fomby
LOCATION:Abundant Life 323 S 12th St 323 12th Street Gadsden AL 35901
GEO:34.0165934;-86.0205082
END:VEVENT
END:VCALENDAR